BEGIN:VCALENDAR
VERSION:2.0
PRODID:-//ChamberMaster//Event Calendar 2.0//EN
METHOD:PUBLISH
X-PUBLISHED-TTL:P3D
REFRESH-INTERVAL:P3D
CALSCALE:GREGORIAN
BEGIN:VEVENT
DTSTART:20130313T160000Z
DTEND:20130313T200000Z
X-MICROSOFT-CDO-ALLDAYEVENT:FALSE
SUMMARY:NDAB Safety Training - Forklift Operator Training
DESCRIPTION:In conjunction with North Dakota Workforce Safety & Insurance and local HBAs\, the North Dakota Association of Builders presents FREE safety courses to members. Cost for non-members is $35 per 4-hour course.\n  \n  Designed to meet OSHA formal instruction training requirements for operators of powered industrial trucks\, this course includes safe operation\, maintenance\, protection of personnel\, load center\, unloading and loading of trucks and more. Classroom content only. Does not include opeations certification.\n  \n  For more information or to register visit www.ndbuild.com or call 222-2401.
X-ALT-DESC;FMTTYPE=text/html:<p>In conjunction with North Dakota Workforce Safety &amp\; Insurance and local HBAs\, the North Dakota Association of Builders presents FREE safety courses to members. Cost for non-members is $35 per 4-hour course.<br />  <br />  Designed to meet OSHA formal instruction training requirements for operators of powered industrial trucks\, this course includes safe operation\, maintenance\, protection of personnel\, load center\, unloading and loading of trucks and more.&nbsp\;Classroom content only. Does not include opeations certification.<br />  <br />  For more information or to register visit <a href="http://www.ndbuild.com">www.ndbuild.com</a> or call 222-2401.</p>  
LOCATION:North Dakota Safety Council Office\, 1640 Burnt Boat Drive\, Bismarck
UID:e.9633.41530
SEQUENCE:3
DTSTAMP:20260420T154814Z
URL:http://bmhband.memberzone.com/events/details/ndab-safety-training-forklift-operator-training-03-13-2013-41530
END:VEVENT

END:VCALENDAR
