BEGIN:VCALENDAR
VERSION:2.0
PRODID:-//ChamberMaster//Event Calendar 2.0//EN
METHOD:PUBLISH
X-PUBLISHED-TTL:P3D
REFRESH-INTERVAL:P3D
CALSCALE:GREGORIAN
BEGIN:VEVENT
DTSTART:20140305T170000Z
DTEND:20140305T180000Z
X-MICROSOFT-CDO-ALLDAYEVENT:FALSE
SUMMARY:2014 (March) Membership Committee Meeting
DESCRIPTION:The Membership Committee will have their monthly meeting at the BMHBA office. Lunch will be served.\n\n\n\nAll committee meetings are open for any member to attend.
X-ALT-DESC;FMTTYPE=text/html:<p>The Membership Committee will have their monthly meeting at the BMHBA office. Lunch will be served.<br />\n<br />\n<em>All committee meetings are open for any member to attend.</em></p>\n
LOCATION:BMHBA building
UID:e.9633.41448
SEQUENCE:3
DTSTAMP:20260419T121345Z
URL:http://bmhband.memberzone.com/events/details/2014-march-membership-committee-meeting-41448
END:VEVENT

END:VCALENDAR
